BEGIN:VCALENDAR
VERSION:2.0
PRODID:-//ChamberMaster//Event Calendar 2.0//EN
METHOD:PUBLISH
X-PUBLISHED-TTL:P3D
REFRESH-INTERVAL:P3D
CALSCALE:GREGORIAN
BEGIN:VEVENT
DTSTART:20230608T160000Z
DTEND:20230608T173000Z
X-MICROSOFT-CDO-ALLDAYEVENT:FALSE
SUMMARY:Land Development Committee
DESCRIPTION:The meeting invite and registration is sent directly to the LDC member roster.\n\nTo get involved with this council\, please call 704.343.5330 or email jean@hbacharlotte.com.\n\n\n\nJUNE MEETING DETAILS:\n\nInformation Coming Soon!\n\n \nParticipation in this committee is open to any HBAGC member whose business is related to bringing raw land to finished lots (Developers\, Land Planners\, Land Engineers\, etc.). They meet monthly to exchange information and ideas relating to the development industry and engage elected officials to address opportunities and obstacles to development.
X-ALT-DESC;FMTTYPE=text/html:<strong>The meeting invite and registration is sent directly to the LDC member roster.</strong><br />\nTo get involved with this council\, please call 704.343.5330 or email <a href="mailto:jean@hbacharlotte.com?subject=LDC%20Participation">jean@hbacharlotte.com</a>.<br />\n<br />\n<strong>JUNE MEETING DETAILS:</strong><br />\n<span style="text-align: justify\;">Information Coming Soon!</span><br />\n&nbsp\;\n<div style="text-align: justify\;"><em>Participation in this committee is open to any HBAGC member whose business is related to bringing raw land to finished lots (Developers\, Land Planners\, Land Engineers\, etc.). They meet monthly to exchange information and ideas relating to the development industry and engage elected officials to address opportunities and obstacles to development</em><em>.</em></div>\n
LOCATION:
UID:e.9637.411
SEQUENCE:3
DTSTAMP:20260420T145731Z
URL:https://business.hbacharlotte.com/events/details/land-development-committee-411
END:VEVENT

END:VCALENDAR
