BEGIN:VCALENDAR
VERSION:2.0
PRODID:-//ChamberMaster//Event Calendar 2.0//EN
METHOD:PUBLISH
X-PUBLISHED-TTL:P3D
REFRESH-INTERVAL:P3D
CALSCALE:GREGORIAN
BEGIN:VEVENT
DTSTART:20260421T153000Z
DTEND:20260421T173000Z
X-MICROSOFT-CDO-ALLDAYEVENT:FALSE
SUMMARY:Membership Luncheon - 04/21/26
DESCRIPTION:April Program\n\n\n\nSALES & LEADERSHIP PEAK PERFORMANCE\n\nGuest Speaker: Cory Charles\, The Superhero Mindset\n\nUnleash your inner superhero! We're thrilled to welcome Cory Charles to our April luncheon. If you missed him at the International Builders Show\, then take advantage of this second chance\, created  exclusively for our members. Cory's dynamic keynote is sure to make an IMPACT!\n\nInspiration.\n\nMotivation.\n\nPurpose.\n\nAction.\n\nCourage.\n\nTransformation!\n\n\nMonthly Membership Luncheon Series\n\nEngage with other HBA professionals and gain insights into what's happening in our industry today. These monthly lunches are designed to bring all facets of our membership together to collaborate and grow. Whether you're a custom or production builder\, lender\, trade partner or vendor - these meetings are a way for you to connect\, learn about market trends & strategic insights\, and make the most of YOUR membership.\n\n\n\nInterested in sponsor opportunities at this program? Email sarah@hbacharlotte.com to learn more.
X-ALT-DESC;FMTTYPE=text/html:<strong><u><span style="font-size:22px\;">April Program</span></u><br />\n<br />\nSALES &amp\; LEADERSHIP PEAK PERFORMANCE<br />\nGuest Speaker: Cory Charles\, The Superhero Mindset</strong>\n\n<div style="text-align: justify\;">Unleash your inner superhero! We&rsquo\;re thrilled to welcome Cory Charles to our April luncheon. If you missed him at the International Builders Show\, then take advantage of this second chance\, created&nbsp\; exclusively for our members. Cory&rsquo\;s dynamic keynote is sure to make an IMPACT!<br />\n<strong>Inspiration.<br />\nMotivation.<br />\nPurpose.</strong><br />\n<strong>Action.<br />\nCourage.<br />\nTransformation!</strong></div>\n<br />\n<strong>Monthly Membership Luncheon Series</strong>\n\n<div style="text-align: justify\;">Engage with other HBA professionals and gain insights into what&#39\;s happening in our industry today. These&nbsp\;monthly lunches are designed to bring all facets of our membership together to collaborate and grow. Whether you&#39\;re a custom or production builder\, lender\, trade partner or vendor - these meetings are a way for you to connect\, learn about market trends &amp\; strategic insights\, and make the most of YOUR membership.<br />\n<br />\nInterested in sponsor opportunities at this program? Email <u><strong><a href="mailto:sarah@hbacharlotte.com?subject=Monthly%20Luncheon%20Sponsor%20questions">sarah@hbacharlotte.com</a></strong></u> to learn more.</div>\n
LOCATION:Canopy Building 1120 Pearl Park Way Charlotte\, NC
UID:e.9637.657
SEQUENCE:3
DTSTAMP:20260419T120612Z
URL:https://business.hbacharlotte.com/events/details/membership-luncheon-04-21-26-657
END:VEVENT

END:VCALENDAR
